BEGIN:VCALENDAR
VERSION:2.0
CALSCALE:GREGORIAN
METHOD:PUBLISH
BEGIN:VEVENT
DTSTART;TZID=America/New_York:20140915T130000
DTEND;TZID=America/New_York:20140915T150000
SUMMARY:«  Outils pour la préparation d’une demande de chercheur boursier  FRQ-S »
DESCRIPTION:Conférence«  Outils pour la préparation d’une demande de chercheur boursier FRQ-S »Présentée par : Dr Mélanie Lavoie-Tremblay Professeure agrégée\, École des sciences infirmières Ingram\, Université McGill  Cette conférence  sera...
LOCATION:805 rue Sherbrooke Ouest H3A 0B9 Montreal Quebec
URL:https://rrisiq.com/fr/evenement/outils-pour-la-preparation-une-demande-de-chercheur-boursier-frq-s
UID:quid-rrisiq-21
END:VEVENT
END:VCALENDAR