BEGIN:VCALENDAR
VERSION:2.0
CALSCALE:GREGORIAN
METHOD:PUBLISH
BEGIN:VEVENT
DTSTART;TZID=America/New_York:20250313T120000
DTEND;TZID=America/New_York:20250313T133000
SUMMARY:Un modèle de soins à domicile dont le Québec a besoin : L’exemple d’une étude mixte inspirée par et réalisée avec des professionnelles de la santé
DESCRIPTION:Les soins à domicile (SAD) devraient intégrer une approche palliative pour favoriser la qualité de vie des personnes âgées ou ayant une maladie chronique et éviter les visites à l’urgence ou l’hospitalisation. Toutefois\, l’accès à une e...
LOCATION:
URL:https://rrisiq.com/fr/evenement/quebec-besoin-exemple-une-etude-mixte-inspiree-par-et-realisee-avec-des-professionnelles-de-la-sante
UID:quid-rrisiq-147
END:VEVENT
END:VCALENDAR