BEGIN:VCALENDAR
VERSION:2.0
CALSCALE:GREGORIAN
METHOD:PUBLISH
BEGIN:VEVENT
DTSTART;TZID=America/New_York:20160418T120000
DTEND;TZID=America/New_York:20160418T133000
SUMMARY:Conférence: « L’approche réaliste en action : le cas du travail en interdisciplinarité dans les équipes de cancérologie. »
DESCRIPTION:CONFÉRENCE PRÉSENTÉE PAR:Dr. Dominique TremblayProfesseure agrégée École des sciences infirmièresUniversité de Sherbrooke« L’approche réaliste devient de plus en plus populaire auprès des chercheurs dont l’objet d’étude porte sur des...
LOCATION:2375\, chemin de la Côte Ste-Catherine\, Montreal
URL:https://rrisiq.com/fr/evenement/realiste-en-action-le-cas-du-travail-en-interdisciplinarite-dans-les-equipes-de-cancerologie
UID:quid-rrisiq-45
END:VEVENT
END:VCALENDAR