BEGIN:VCALENDAR
VERSION:2.0
CALSCALE:GREGORIAN
METHOD:PUBLISH
BEGIN:VEVENT
DTSTART;TZID=America/New_York:20170526T070000
DTEND;TZID=America/New_York:20170526T163000
SUMMARY:Réflexion sur l’écart-type: La complexité des rôles infirmiers et l’impact sur l’organisation des soins
DESCRIPTION:L’Hôpital général juif  - 34e Colloque annuel de la Direction des soins infirmiers Les sciences infirmières\, la santé et les soins de la santéLa restructuration organisationnelle des soins de santé\, les coupures budgétaires et la pénurie ...
LOCATION:5151 Chemin de la Côte-Sainte-Catherine\, Montréal (Québec) H3W 1M6
URL:https://rrisiq.com/fr/evenement/reflexion-sur-ecart-type-la-complexite-des-roles-infirmiers-et-impact-sur-organisation-des-soins
UID:quid-rrisiq-61
END:VEVENT
END:VCALENDAR