BEGIN:VCALENDAR
VERSION:2.0
CALSCALE:GREGORIAN
METHOD:PUBLISH
BEGIN:VEVENT
DTSTART;TZID=America/New_York:20190613T120000
DTEND;TZID=America/New_York:20190613T133000
SUMMARY:A Research Coordinator's Checklist Manifesto: Tools and Procedures for Running Research Protocols
DESCRIPTION:Conférence présentée par: Stephanie Robbins M.Sc. Coordonnatrice de recherche - Reproduction et la santé mentale Institut de psychiatrie communautaire et familiale Hôpital général juif de Montréal. Résumé L'exécution d'études de recherche...
LOCATION:2375 Chemin de la Côte Sainte-Catherine\, Montréal
URL:https://rrisiq.com/fr/evenement/research-coordinator-checklist-manifesto-tools-and-procedures-for-running-research-protocols
UID:quid-rrisiq-86
END:VEVENT
END:VCALENDAR