BEGIN:VCALENDAR
VERSION:2.0
CALSCALE:GREGORIAN
METHOD:PUBLISH
BEGIN:VEVENT
DTSTART;TZID=America/New_York:20150218T000000
DTEND;TZID=America/New_York:20150220T120000
SUMMARY:Réunion scientifique annuelle 2015 : SQLNM\, CMDO du FRQS  et du Congres COLOSSUS
DESCRIPTION:Réunion scientifique annuelle 2015 de la Société québécoise de lipidologie\, de nutrition et de métabolisme (SQLNM)\, du Réseau de recherche en santé cardiométabolique\, diabete et obésité (CMDO) du FRQS et du Congrès COLOSSUS
LOCATION:Hôtel Chéribourg2603 Chemin du ParcOrford\, QC J1X 8C8
URL:https://rrisiq.com/fr/evenement/reunion-scientifique-annuelle-2015-sqlnm-cmdo-du-frqs-et-du-congres-colossus
UID:quid-rrisiq-32
END:VEVENT
END:VCALENDAR