BEGIN:VCALENDAR
VERSION:2.0
CALSCALE:GREGORIAN
METHOD:PUBLISH
BEGIN:VEVENT
DTSTART;TZID=America/New_York:20161212T120000
DTEND;TZID=America/New_York:20161212T133000
SUMMARY:Conférence: « Mieux se connaître pour mieux se réseauter : Portrait de la recherche au département des sciences infirmières de l’UQTR. »
DESCRIPTION:Présentée parPatricia Germain\, inf PhD Professeure agrégée\, Directrice du Département des sciences infirmièresMarie-Josée Martel\, inf PhDProfesseure agrégéeRoxanne Lemieux\, PhDProfesseure adjointeNicolas Berthelot\, PhD Professeur adjointL...
LOCATION:3351\, Boulevard des Forges\, Trois-Rivières
URL:https://rrisiq.com/fr/evenement/se-pour-mieux-se-reseauter-portrait-de-la-recherche-au-departement-des-sciences-infirmieres-de-uqtr
UID:quid-rrisiq-53
END:VEVENT
END:VCALENDAR