BEGIN:VCALENDAR
VERSION:2.0
CALSCALE:GREGORIAN
METHOD:PUBLISH
BEGIN:VEVENT
DTSTART;TZID=America/New_York:20140324T110000
DTEND;TZID=America/New_York:20140324T123000
SUMMARY:« Étude pilote sur l’utilité de trousses de distraction pour la gestion de la douleur procédurale à l’urgence pédiatrique »
DESCRIPTION:VEUILLEZ NOTER QUE CETTE CONFÉRENCE EST ANNULÉE Conférence présentée par Dr Sylvie Le May\, Professeure titulaire\, Faculté des sciences infirmières de l’Université de Montréal\, Directrice adjointe associée - Développement de la recherc...
LOCATION:Université de Montréal – Faculté des sciences infirmières\, 2375\, chemin de la Côte Ste-Catherine\, Montréal
URL:https://rrisiq.com/fr/evenement/sur-utilite-de-trousses-de-distraction-pour-la-gestion-de-la-douleur-procedurale-urgence-pediatrique
UID:quid-rrisiq-15
END:VEVENT
END:VCALENDAR