BEGIN:VCALENDAR
VERSION:2.0
CALSCALE:GREGORIAN
METHOD:PUBLISH
BEGIN:VEVENT
DTSTART;TZID=America/New_York:20180320T190000
DTEND;TZID=America/New_York:20180320T220000
SUMMARY:TABLE RONDE: « AU-DELÀ DES APPARENCES: LES SOINS INFIRMIERS »
DESCRIPTION:Animation  Clémence Dallaire  Professeure titulaire Experts en soins infirmiers :Philippe Voyer Professeur titulaire Diane Tapp Professeure adjointe Maria Cecilia Gallani Professeure titulaire Bernard Roy Professeur titulaire Connaissez-v...
LOCATION:2325 rue de l'Université  Université Laval Québec G1V 0A6
URL:https://rrisiq.com/fr/evenement/table-ronde-au-dela-des-apparences-les-soins-infirmiers
UID:quid-rrisiq-76
END:VEVENT
END:VCALENDAR