BEGIN:VCALENDAR
VERSION:2.0
CALSCALE:GREGORIAN
METHOD:PUBLISH
BEGIN:VEVENT
DTSTART;TZID=America/New_York:20140129T100000
DTEND;TZID=America/New_York:20140129T113000
SUMMARY:"Tips and tricks on how to optimize your CV"
DESCRIPTION:CONFÉRENCE SPÉCIALE présentée par: Madame Rachel Daly\, MLISBibliothécaire de recherche à l’Institut Lady Davis (Centre de recherche en sciences infirmières) de l’Hôpital Général Juif Survol des différents éléments compris dans le CV...
LOCATION:805\, rue Sherbrooke Ouest Montréal Québec Canada\, H3A 0B9
URL:https://rrisiq.com/fr/evenement/tips-and-tricks-on-how-to-optimize-your-cv
UID:quid-rrisiq-13
END:VEVENT
END:VCALENDAR