BEGIN:VCALENDAR
VERSION:2.0
CALSCALE:GREGORIAN
METHOD:PUBLISH
BEGIN:VEVENT
DTSTART;TZID=America/New_York:20240220T120000
DTEND;TZID=America/New_York:20240220T130000
SUMMARY:Une approche innovante de co-design en santé : pistes pour la recherche
DESCRIPTION:Ce webinaire permettra d'aborder l’apport d’une approche de co-design dans le cadre d’un projet de recherche en santé ainsi que les éléments favorisant l’inclusion et le soutien des personnes participantes dans une activité de co-design. Le...
LOCATION:
URL:https://rrisiq.com/fr/evenement/une-approche-innovante-de-co-design-en-sante-pistes-pour-la-recherche
UID:quid-rrisiq-119
END:VEVENT
END:VCALENDAR