BEGIN:VCALENDAR
VERSION:2.0
CALSCALE:GREGORIAN
METHOD:PUBLISH
BEGIN:VEVENT
DTSTART;TZID=America/New_York:20161027T120000
DTEND;TZID=America/New_York:20161027T133000
SUMMARY:Conférence: « Déposer une demande de subvention au volet Projet des IRSC: Quelques pistes de survie pour jeunes chercheurs. »
DESCRIPTION:Conférence présentée par :Kelley Kilpatrick\, inf. PhDProfesseure agrégéeUniversité de MontréalFaculté des sciences infirmièresChercheuseCIUSSS de l’Est-de-l’Île-de-Montréal-Hôpital Maisonneuve-RosemontLes concours pour obtenir des fon...
LOCATION:2375\, chemin de la Côte Ste-Catherine\, Montreal
URL:https://rrisiq.com/fr/evenement/une-demande-de-subvention-au-volet-projet-des-irsc-quelques-pistes-de-survie-pour-jeunes-chercheurs
UID:quid-rrisiq-51
END:VEVENT
END:VCALENDAR