BEGIN:VCALENDAR
VERSION:2.0
CALSCALE:GREGORIAN
METHOD:PUBLISH
BEGIN:VEVENT
DTSTART;TZID=America/New_York:20200709T120000
DTEND;TZID=America/New_York:20200709T133000
SUMMARY:Webinaire COVID: Stratégies de recherche en contexte de pandémie
DESCRIPTION:Joignez-vous à nous pour la présentation d’un projet portant sur la thématique du COVID-19 suivi d'une discussion et d’un partage de stratégies de recherche en contexte de pandémie.**Inscription obligatoire (voir lien Zoom ci-dessous).**...
LOCATION:
URL:https://rrisiq.com/fr/evenement/webinaire-covid-strategies-de-recherche-en-contexte-de-pandemie
UID:quid-rrisiq-94
END:VEVENT
END:VCALENDAR